BEGIN:VCALENDAR
VERSION:2.0
PRODID:-//Squarespace Inc/Squarespace 6//v6//EN
BEGIN:VEVENT
UID:56dd32137c65e4d744dbb612@squarespace.com
DTSTAMP:20160307T074731Z
DTSTART:20160907T130000Z
DTEND:20160911T190000Z
SUMMARY:WORD PLAY - Brisbane Writers' Festival
END:VEVENT
END:VCALENDAR
