BEGIN:VCALENDAR
VERSION:2.0
PRODID:-//Squarespace Inc/Squarespace 6//v6//EN
BEGIN:VEVENT
UID:5844daef893fc0f82be8333b@squarespace.com
DTSTAMP:20161205T031257Z
DTSTART:20170218T033000Z
DTEND:20170218T043000Z
SUMMARY:Romancing the Stars - Gold Coast
END:VEVENT
END:VCALENDAR
