BEGIN:VCALENDAR
VERSION:2.0
PRODID:-//Squarespace Inc/Squarespace 6//v6//EN
BEGIN:VEVENT
UID:5844db5c579fb3ad1b11b93d@squarespace.com
DTSTAMP:20161205T031432Z
DTSTART:20170224T033000Z
DTEND:20170224T043000Z
SUMMARY:Romancing the Stars - Boondall
END:VEVENT
END:VCALENDAR
