BEGIN:VCALENDAR
VERSION:2.0
PRODID:-//Squarespace Inc/Squarespace 6//v6//EN
BEGIN:VEVENT
UID:5844dbaabebafbacb775a101@squarespace.com
DTSTAMP:20161205T031510Z
DTSTART:20170225T033000Z
DTEND:20170225T043000Z
SUMMARY:Romancing the Stars - Buderim
END:VEVENT
END:VCALENDAR
