BEGIN:VCALENDAR
VERSION:2.0
PRODID:-//Squarespace Inc/Squarespace 6//v6//EN
BEGIN:VEVENT
UID:58d51431893fc0bdd13c3577@squarespace.com
DTSTAMP:20170324T124411Z
DTSTART:20170327T130000Z
DTEND:20170329T210000Z
SUMMARY:The Australian Copyright Council - Understanding Copyright Seminars
END:VEVENT
END:VCALENDAR
