BEGIN:VCALENDAR
VERSION:2.0
PRODID:-//Squarespace Inc/Squarespace 6//v6//EN
BEGIN:VEVENT
UID:58b3dc30e4fcb522158c4f17@squarespace.com
DTSTAMP:20170227T080124Z
DTSTART:20170328T220000Z
DTEND:20170329T000000Z
SUMMARY:CBCA QLD BOOKSLAM
GEO:-27.471163;153.018113
LOCATION:Queensland Writers Centre\, Level 2 State Library Qld\, Brisbane\, 
 Australia
END:VEVENT
END:VCALENDAR
