BEGIN:VCALENDAR
VERSION:2.0
PRODID:-//Squarespace Inc/Squarespace 6//v6//EN
BEGIN:VEVENT
UID:58d511b046c3c41b05faf3c6@squarespace.com
DTSTAMP:20170406T034901Z
DTSTART:20170511T173000Z
DTEND:20170511T193000Z
SUMMARY:QSLA Professional Development - Behind-the-Scenes@Digital Futures H
 ub
GEO:-27.471163;153.018113
LOCATION:State Library Queensland
END:VEVENT
END:VCALENDAR
