BEGIN:VCALENDAR
VERSION:2.0
PRODID:-//Squarespace Inc/Squarespace 6//v6//EN
BEGIN:VEVENT
UID:58d514ff03596ec3ede08183@squarespace.com
DTSTAMP:20170326T224637Z
DTSTART:20170524T130000Z
DTEND:20170524T140000Z
SUMMARY:ALIA National Simultaneous Storytime
END:VEVENT
END:VCALENDAR
