BEGIN:VCALENDAR
VERSION:2.0
PRODID:-//Squarespace Inc/Squarespace 6//v6//EN
BEGIN:VEVENT
UID:59356018725e25b450adf39d@squarespace.com
DTSTAMP:20170605T135049Z
DTSTART:20170615T223000Z
DTEND:20170616T003000Z
SUMMARY:The Narelle Oliver Lecture
END:VEVENT
END:VCALENDAR
