BEGIN:VCALENDAR
VERSION:2.0
PRODID:-//Squarespace Inc/Squarespace 6//v6//EN
BEGIN:VEVENT
UID:58a835e75016e11d7e4eab14@squarespace.com
DTSTAMP:20170218T115644Z
DTSTART:20170607T110000Z
DTEND:20170608T000000Z
SUMMARY:EduTECH Masterclass
END:VEVENT
END:VCALENDAR
