BEGIN:VCALENDAR
VERSION:2.0
PRODID:-//Squarespace Inc/Squarespace 6//v6//EN
BEGIN:VEVENT
UID:58a836a2579fb32b00eeb779@squarespace.com
DTSTAMP:20170218T115950Z
DTSTART:20170608T110000Z
DTEND:20170610T200000Z
SUMMARY:EduTECH Congress 2017
END:VEVENT
END:VCALENDAR
